BEGIN:VCALENDAR
VERSION:2.0
PRODID:-//Optimist Club of Calgary - ECPv6.15.20//NONSGML v1.0//EN
CALSCALE:GREGORIAN
METHOD:PUBLISH
X-WR-CALNAME:Optimist Club of Calgary
X-ORIGINAL-URL:https://optimistyyc.org
X-WR-CALDESC:Events for Optimist Club of Calgary
REFRESH-INTERVAL;VALUE=DURATION:PT1H
X-Robots-Tag:noindex
X-PUBLISHED-TTL:PT1H
BEGIN:VTIMEZONE
TZID:America/Edmonton
BEGIN:DAYLIGHT
TZOFFSETFROM:-0700
TZOFFSETTO:-0600
TZNAME:MDT
DTSTART:20250309T090000
END:DAYLIGHT
BEGIN:STANDARD
TZOFFSETFROM:-0600
TZOFFSETTO:-0700
TZNAME:MST
DTSTART:20251102T080000
END:STANDARD
BEGIN:DAYLIGHT
TZOFFSETFROM:-0700
TZOFFSETTO:-0600
TZNAME:MDT
DTSTART:20260308T090000
END:DAYLIGHT
BEGIN:STANDARD
TZOFFSETFROM:-0600
TZOFFSETTO:-0700
TZNAME:MST
DTSTART:20261101T080000
END:STANDARD
BEGIN:DAYLIGHT
TZOFFSETFROM:-0700
TZOFFSETTO:-0600
TZNAME:MDT
DTSTART:20270314T090000
END:DAYLIGHT
BEGIN:STANDARD
TZOFFSETFROM:-0600
TZOFFSETTO:-0700
TZNAME:MST
DTSTART:20271107T080000
END:STANDARD
END:VTIMEZONE
BEGIN:VEVENT
DTSTART;TZID=America/Edmonton:20260609T190000
DTEND;TZID=America/Edmonton:20260609T203000
DTSTAMP:20260422T182319
CREATED:02020327T223922Z
LAST-MODIFIED:20260419T023105Z
UID:3259-1781031600-1781037000@optimistyyc.org
SUMMARY:Optimist Club of Calgary Member Visit to the Calgary Stampede SAM Centre Tuesday June 9th
DESCRIPTION:Attention Optimist Members! 🐎 Saddle Up for an Exclusive Stampede Experience! 🎉\n \nReady to stir up that Stampede spirit before the midway madness kicks off? Then don’t miss this unforgettable evening with fellow Optimist Club of Calgary members and guests on Tuesday\, June 9th\, 2026\, from 7:00 PM to 8:30 PM! \n🌟 You’re invited to a private tour and viewing at the Sam Centre\, the immersive gateway to the heart and history of the Calgary Stampede. Experience stories\, exhibits\, and behind-the-scenes magic that bring our Western heritage to life—long before the fireworks fly and rodeo dust settles. \n🤠 It’s an exciting pre-Stampede adventure packed with camaraderie\, culture\, and cowboy charm. Grab your hat and boots and join the celebration early! \nLet’s kick off the season with flair and fellowship. Yeehaw! \nLOCATION: \n\n632 13 Ave SE\, Calgary- Right across from the Calgary Stampede’s Youth Campus\nParking is located on 12th Ave and 5A St\, directly west of Sam Centre.\n\nCOST: \n\nFREE – Optimist Club of Calgary members and their guests (one guest per Optimist member)\n\nRSVP: \n\nTo reserve a ticket for you and a guest\, please email Club President Robin Bertram at robin.bertram@shaw.ca\nAll ticket reservations must be made by April 30th\, 2026.\n\nMEETING LOCATION: \n\nThe Sam Centre is closed on Tuesdays.  However\, Optimist members and guests are asked to meet at the front entrance of the SAM Centre.  We will be let in as a group.\n\nWHAT IS THE SAM CENTRE? \n\nThe Sam Centre shares the Stampede Story through multiple mediums: exhibits\, an immersive digital experience\, personally facilitated moments\, and an artifact and archival collection space. Sam Centre is a one-of-a-kind place animated by captivating showcases\, vibrant learning spaces\, and compelling storytelling\, all brought to life through the knowledge\, warmth\, and hospitality of Sam volunteers and employees\, with you at the center of the action.\nFor more information on the Sam Centre\, CLICK HERE.\n\nNOTE: This event is being held in place of our regular monthly club meeting. \n  \n  
URL:https://optimistyyc.org/event/2026-optimist-club-of-calgary-visit-to-the-calgary-sam-centre/
LOCATION:Sam Centre\, 632 13 Ave SE\, Calgary\, Alberta\, T2G 1E8\, Canada
CATEGORIES:Member activities,Social Activity
ATTACH;FMTTYPE=image/png:https://optimistyyc.org/wp-content/uploads/2025/05/SAM-Centre-4.png
END:VEVENT
END:VCALENDAR