BEGIN:VCALENDAR
VERSION:2.0
PRODID:-//Optimist Club of Calgary - ECPv6.15.20//NONSGML v1.0//EN
CALSCALE:GREGORIAN
METHOD:PUBLISH
X-ORIGINAL-URL:https://optimistyyc.org
X-WR-CALDESC:Events for Optimist Club of Calgary
REFRESH-INTERVAL;VALUE=DURATION:PT1H
X-Robots-Tag:noindex
X-PUBLISHED-TTL:PT1H
BEGIN:VTIMEZONE
TZID:America/Edmonton
BEGIN:DAYLIGHT
TZOFFSETFROM:-0700
TZOFFSETTO:-0600
TZNAME:MDT
DTSTART:20250309T090000
END:DAYLIGHT
BEGIN:STANDARD
TZOFFSETFROM:-0600
TZOFFSETTO:-0700
TZNAME:MST
DTSTART:20251102T080000
END:STANDARD
BEGIN:DAYLIGHT
TZOFFSETFROM:-0700
TZOFFSETTO:-0600
TZNAME:MDT
DTSTART:20260308T090000
END:DAYLIGHT
BEGIN:STANDARD
TZOFFSETFROM:-0600
TZOFFSETTO:-0700
TZNAME:MST
DTSTART:20261101T080000
END:STANDARD
BEGIN:DAYLIGHT
TZOFFSETFROM:-0700
TZOFFSETTO:-0600
TZNAME:MDT
DTSTART:20270314T090000
END:DAYLIGHT
BEGIN:STANDARD
TZOFFSETFROM:-0600
TZOFFSETTO:-0700
TZNAME:MST
DTSTART:20271107T080000
END:STANDARD
END:VTIMEZONE
BEGIN:VEVENT
DTSTART;TZID=America/Edmonton:20261013T173000
DTEND;TZID=America/Edmonton:20261013T203000
DTSTAMP:20260423T005313
CREATED:20260419T011658Z
LAST-MODIFIED:20260419T011658Z
UID:3652-1791912600-1791923400@optimistyyc.org
SUMMARY:Monthly Club Meeting Tuesday October 13th
DESCRIPTION:Don’t miss our monthly meet-ups!  They’re the perfect opportunity for members to connect\, share stories\, and gain insights from top-notch guest speakers who delve into today’s most compelling topics.  Join us in person or hop on Zoom—either way\, it’s an energizing experience you’ll want to be part of! \nDate:  Tuesday\, October 13th\, 2026 \nLocation: Limerick’s Traditional Pub\, 7304 Macleod Trail\, Calgary\, Alberta\, on the main floor (private meeting room). \nParking:  Free parking is available at the back of the restaurant. \n5:00 PM – 7:00 PM – Dinner and drinks are available anytime after 5:00 PM.  To view the Limericks menu – CLICK HERE \nFood and Drink Specials: \n\nTuesday food and drink specials include a AAA Steak Sandwich for $13.99 and a 16-oz. Kampus Amber Lager for $7.00.  Happy/Appy Hour from 2 PM to 6 PM.\n\n7 PM – 8:30 PM – Member Meeting (agenda to be provided in advance) \nJoin the ZOOM Meeting at 7 PM:  Link to be provided before the meeting \n8:30 PM to ??? – Socializing after the meeting \nGuest Speaker:  To Be Confirmed \nDiscussion Topic:  To Be Confirmed \n  \n  \n 
URL:https://optimistyyc.org/event/monthly-club-meeting-tuesday-october-13th/
LOCATION:Limericks Traditional Public House\, 7304 Macleod Trail\, Calgary\, Alberta\, T2H 0L9\, Canada
CATEGORIES:Member activities,Member meetings,Social Activity
ATTACH;FMTTYPE=image/jpeg:https://optimistyyc.org/wp-content/uploads/2023/11/Meeting-reminder-jpg.webp
END:VEVENT
END:VCALENDAR