BEGIN:VCALENDAR
VERSION:2.0
PRODID:-//Optimist Club of Calgary - ECPv6.15.20//NONSGML v1.0//EN
CALSCALE:GREGORIAN
METHOD:PUBLISH
X-ORIGINAL-URL:https://optimistyyc.org
X-WR-CALDESC:Events for Optimist Club of Calgary
REFRESH-INTERVAL;VALUE=DURATION:PT1H
X-Robots-Tag:noindex
X-PUBLISHED-TTL:PT1H
BEGIN:VTIMEZONE
TZID:America/Edmonton
BEGIN:DAYLIGHT
TZOFFSETFROM:-0700
TZOFFSETTO:-0600
TZNAME:MDT
DTSTART:20240310T090000
END:DAYLIGHT
BEGIN:STANDARD
TZOFFSETFROM:-0600
TZOFFSETTO:-0700
TZNAME:MST
DTSTART:20241103T080000
END:STANDARD
BEGIN:DAYLIGHT
TZOFFSETFROM:-0700
TZOFFSETTO:-0600
TZNAME:MDT
DTSTART:20250309T090000
END:DAYLIGHT
BEGIN:STANDARD
TZOFFSETFROM:-0600
TZOFFSETTO:-0700
TZNAME:MST
DTSTART:20251102T080000
END:STANDARD
BEGIN:DAYLIGHT
TZOFFSETFROM:-0700
TZOFFSETTO:-0600
TZNAME:MDT
DTSTART:20260308T090000
END:DAYLIGHT
BEGIN:STANDARD
TZOFFSETFROM:-0600
TZOFFSETTO:-0700
TZNAME:MST
DTSTART:20261101T080000
END:STANDARD
BEGIN:DAYLIGHT
TZOFFSETFROM:-0700
TZOFFSETTO:-0600
TZNAME:MDT
DTSTART:20270314T090000
END:DAYLIGHT
BEGIN:STANDARD
TZOFFSETFROM:-0600
TZOFFSETTO:-0700
TZNAME:MST
DTSTART:20271107T080000
END:STANDARD
END:VTIMEZONE
BEGIN:VEVENT
DTSTART;VALUE=DATE:20251205
DTEND;VALUE=DATE:20260119
DTSTAMP:20260422T201620
CREATED:20251206T043853Z
LAST-MODIFIED:20260114T173451Z
UID:3551-1764892800-1768780799@optimistyyc.org
SUMMARY:2026 Optimist Club of Calgary Oratorical Scholarship Contest - ACCEPTING APPLICATIONS STARTING JANUARY 8TH AT 8 AM
DESCRIPTION:Attention all Students – Here’s your chance to win a Scholarship!                                   \nThe Optimist Club of Calgary is thrilled to host once again its Oratorical Scholarship Contest for the 2025–26 school year!  This exciting opportunity is open to students under 19 years of age as of October 1\, 2025. \nContestants will research\, write\, and deliver a powerful four- to five-minute speech on the inspiring theme: “The Moment I Realized I Belonged — My Definition of Community.”  We encourage students with public speaking experience — whether through school\, church\, Guides and Scouts\, 4-H\, Air Cadets\, or programs like Toastmasters Youth Leadership.  Now is your chance to step up\, share your voice and creative writing skills\, and shine! \nIMPORTANT NOTICE – Entries will be accepted on a first-come\, first-served basis beginning at 8:00 a.m. on January 8\, 2026. The contest is limited to a maximum of 10 participants. Please note that any submissions received before January 8 will not be considered. \nTo apply\, download the Oratorical Contest Application below\, complete it\, and submit it via e-mail to Bob Steele\, Oratorical Contest Chair\, at ironmanb@telusplanet.net with the Subject “Oratorical Contest”. The entry must include a completed application form\, signed by the entrant and their parent/guardian\, a copy of proof of age\, and a brief statement of the school\, grade attended\, and previous speaking experience. \nORATORICAL CONTEST APPLICATION FORM ==>  25-26_Oratorical_Application \nWhen completing the application\, please note the Sponsoring Club Name is the “Optimist Club of Calgary\,” and the Club Number is “13025”. \nOur Optimist Club of Calgary In-Person Contest will be held on January 24\, 2026\, at 12:30 pm at the Fish Creek Branch of Calgary Public Library\, 11661 Bonaventure Dr. SE. There are medals and cash prizes of $300\, $200\, and $100\, and the first two speakers will advance to the Scholarship contest. They will compete in a contest for all clubs in Alberta during April to choose two speakers for the Scholarship Contest on May 16 in Saskatoon. Post-secondary Scholarships valued at $2\,500\, $1\,500\, and $1\,000 are awarded in the district contest. \nINFORMATION ON THE OPTIMIST ORATORICAL SCHOLARSHIP CONTEST \nBeginning in 1928\, the Optimist International Oratorical Scholarship Contest has become the longest-running program of Optimist International. The contest is designed for young people to gain experience in public speaking and provide them with an opportunity to compete for multiple post-secondary scholarships with a pre-assigned topic. \nFor more information\, please click on the following link:   https://optimist.org/member/scholarships4.cfm \nPictures from a previous contest are below
URL:https://optimistyyc.org/event/2026-optimist-club-of-calgary-oratorical-scholarship-contest-2/
CATEGORIES:Member activities,Optimist event,Scholarship Opportunities
ATTACH;FMTTYPE=image/jpeg:https://optimistyyc.org/wp-content/uploads/2023/01/Oratorical-Contest-jpg.webp
END:VEVENT
END:VCALENDAR