BEGIN:VCALENDAR
VERSION:2.0
PRODID:-//Optimist Club of Calgary - ECPv6.15.20//NONSGML v1.0//EN
CALSCALE:GREGORIAN
METHOD:PUBLISH
X-ORIGINAL-URL:https://optimistyyc.org
X-WR-CALDESC:Events for Optimist Club of Calgary
REFRESH-INTERVAL;VALUE=DURATION:PT1H
X-Robots-Tag:noindex
X-PUBLISHED-TTL:PT1H
BEGIN:VTIMEZONE
TZID:America/Edmonton
BEGIN:DAYLIGHT
TZOFFSETFROM:-0700
TZOFFSETTO:-0600
TZNAME:MDT
DTSTART:20250309T090000
END:DAYLIGHT
BEGIN:STANDARD
TZOFFSETFROM:-0600
TZOFFSETTO:-0700
TZNAME:MST
DTSTART:20251102T080000
END:STANDARD
BEGIN:DAYLIGHT
TZOFFSETFROM:-0700
TZOFFSETTO:-0600
TZNAME:MDT
DTSTART:20260308T090000
END:DAYLIGHT
BEGIN:STANDARD
TZOFFSETFROM:-0600
TZOFFSETTO:-0700
TZNAME:MST
DTSTART:20261101T080000
END:STANDARD
BEGIN:DAYLIGHT
TZOFFSETFROM:-0700
TZOFFSETTO:-0600
TZNAME:MDT
DTSTART:20270314T090000
END:DAYLIGHT
BEGIN:STANDARD
TZOFFSETFROM:-0600
TZOFFSETTO:-0700
TZNAME:MST
DTSTART:20271107T080000
END:STANDARD
END:VTIMEZONE
BEGIN:VEVENT
DTSTART;TZID=America/Edmonton:20260124T123000
DTEND;TZID=America/Edmonton:20260124T160000
DTSTAMP:20260422T201451
CREATED:20251219T045613Z
LAST-MODIFIED:20260123T021622Z
UID:3583-1769257800-1769270400@optimistyyc.org
SUMMARY:2026 Optimist Club of Calgary Oratorical Scholarship Contest In Person Competition Saturday January 24th
DESCRIPTION:Attention all Optimist Members\, Contest Participants\, Family Members\, and Friends!\nHere’s your chance to show your support for young\, aspiring students!  Join us for the Optimist Club of Calgary’s 2026 Oratorical Scholarship Contest Competition on Saturday\, January 24th\, 2026\, from 12:30 PM to 4 PM.  Optimists\, family\, friends\, teachers\, fellow students\, and the general public are welcome to join us and watch the competition.   It is free.\nTen participants under the age of 19 who have already pre-registered will research\, write\, and present a four- to five-minute speech on the topic “The Moment I\nRealized I Belonged — My Definition of Community.” \nLocation:  Fish Creek Library (across the street on the east side of Southcenter Mall). \nThe top two participants in this contest will be invited to compete at the 2026 Alberta Regional Optimist Oratorical Contest\, which will be held sometime in April.  For more information about the Oratorical contests\, please see below. \nHope to see you on January 24th! \n \n  \nINFORMATION ON THE OPTIMIST INTERNATIONAL ORATORICAL SCHOLARSHIP CONTEST \nBeginning in 1928\, the Optimist International Oratorical Scholarship Contest has become the longest-running program of Optimist International. The contest is designed for young people to gain experience in public speaking and provide them with an opportunity to compete for multiple post-secondary scholarships with a pre-assigned topic. \nThere are various levels of competition as outlined below: \n\nOPTIMIST CLUB OF CALGARY IN-PERSON CONTEST – Our club contest will be held on January 24th\, 2026\, at the Fish Creek Library.  1st\, 2nd\, and 3rd place participants receive a cash award and a certificate.  1st and 2nd place participants get the opportunity to compete in the Zone Oratorical Contest mentioned below.\nALBERTA ZONE CONTEST – This contest will be held in April 2026 (date and location to be determined) and will include participants from across Alberta. 1st and 2nd place participants will receive a certificate and the opportunity to compete in the District Oratorical Contest mentioned below.\nDISTRICT 13 ORATORICAL CONTEST (Alberta\, Saskatchewan\, Montana\, and NW Wyoming) –  This contest will be held during the 3rd Quarter District Meeting on May 16th\, 2026\, in Saskatoon (location yet to be determined).  There will be 6 participants competing at this event – two participants each from Alberta\, Saskatchewan\, and Montana/Northern Wyoming.  1st\, 2nd\, and 3rd place participants will receive post-secondary scholarships from the Canadian Children’s Optimist Foundation of $2\,500\, $1\,500\, and $1\,000\, respectively. The participant who places 1st will also be invited to the Great Plains Regional Oratorical Contest mentioned below.\nGREAT PLAINS REGIONAL CONTEST – This contest will be held in July 2026 at Optimist International Headquarters in St. Louis\, Missouri.  The 1st place participant receives a $5\,000 scholarship and the opportunity to compete in the World Oratorical Contest mentioned below. Students may compete in person or online using the Zoom platform.\nWORLD ORATORICAL CONTEST – This contest will be held in July 2026 at Optimist International Headquarters in St. Louis\, Missouri.  The 1st place participants from each of the Regional Oratorical Contests across Optimist International will compete in the 2026 World Championship Contest.  1st\, 2nd\, or 3rd place participants from this contest will receive a scholarship of $15\,000\, $10\,000\, or $5\,000\, respectively.  Participants may compete in person or online using the Zoom platform.\n\n \n  \nPICTURES FROM A PREVIOUS OPTIMIST CLUB OF CALGARY ORATORICAL CONTEST \n   \nFor more information about our other Optimist Youth and Community Programs and the benefits of becoming a member\, check out our website at www.optimistyyc.org.
URL:https://optimistyyc.org/event/2026-optimist-club-of-calgary-oratorical-scholarship-contest/
LOCATION:Fish Creek Library\, 11161 Bonaventure Dr SE\, Calgary\, Alberta\, T2J 6S1\, Canada
CATEGORIES:Member activities,Optimist event,Scholarship Opportunities,Volunteer Opportunity
ATTACH;FMTTYPE=image/jpeg:https://optimistyyc.org/wp-content/uploads/2023/07/Optimist-Oratorical-Contest-7-jpg.webp
END:VEVENT
END:VCALENDAR