BEGIN:VCALENDAR
VERSION:2.0
PRODID:-//Optimist Club of Calgary - ECPv6.15.20//NONSGML v1.0//EN
CALSCALE:GREGORIAN
METHOD:PUBLISH
X-WR-CALNAME:Optimist Club of Calgary
X-ORIGINAL-URL:https://optimistyyc.org
X-WR-CALDESC:Events for Optimist Club of Calgary
REFRESH-INTERVAL;VALUE=DURATION:PT1H
X-Robots-Tag:noindex
X-PUBLISHED-TTL:PT1H
BEGIN:VTIMEZONE
TZID:America/Edmonton
BEGIN:DAYLIGHT
TZOFFSETFROM:-0700
TZOFFSETTO:-0600
TZNAME:MDT
DTSTART:20250309T090000
END:DAYLIGHT
BEGIN:STANDARD
TZOFFSETFROM:-0600
TZOFFSETTO:-0700
TZNAME:MST
DTSTART:20251102T080000
END:STANDARD
BEGIN:DAYLIGHT
TZOFFSETFROM:-0700
TZOFFSETTO:-0600
TZNAME:MDT
DTSTART:20260308T090000
END:DAYLIGHT
BEGIN:STANDARD
TZOFFSETFROM:-0600
TZOFFSETTO:-0700
TZNAME:MST
DTSTART:20261101T080000
END:STANDARD
BEGIN:DAYLIGHT
TZOFFSETFROM:-0700
TZOFFSETTO:-0600
TZNAME:MDT
DTSTART:20270314T090000
END:DAYLIGHT
BEGIN:STANDARD
TZOFFSETFROM:-0600
TZOFFSETTO:-0700
TZNAME:MST
DTSTART:20271107T080000
END:STANDARD
END:VTIMEZONE
BEGIN:VEVENT
DTSTART;TZID=America/Edmonton:20260512T173000
DTEND;TZID=America/Edmonton:20260512T203000
DTSTAMP:20260422T151710
CREATED:20251016T042231Z
LAST-MODIFIED:20260419T023158Z
UID:3461-1778607000-1778617800@optimistyyc.org
SUMMARY:Optimist Club Annual General Meeting Tuesday May 12th
DESCRIPTION:Attention Optimist Members!\nWe invite all members to join us for our Annual General Meeting on Tuesday\, May 12\, 2026. This is your opportunity to hear President Robin Bertram’s Annual Report\, receive a Financial Update from Treasurer Lyle Bennett\, and take an active role in the nomination and voting process for our 2026/27 club executive and board. Your voice truly matters\, and we hope you’ll be part of shaping the year ahead. Members are welcome to attend either in person or via ZOOM—whichever works best for you. We look forward to seeing you there! \nLocation: Limerick’s Traditional Pub\, 7304 Macleod Trail\, Calgary\, Alberta\, on the main floor (private meeting room). \nParking:  Free parking is available at the back of the restaurant. \n5:00 PM – 7 PM – Dinner and drinks available anytime after 5 PM.  To view the Limericks menu – CLICK HERE \n\nTuesday food and drink specials include a AAA Steak Sandwich for $13.99 and local Kampus Amber Lager draught beer (16 oz) for $7.00.  Happy/Appy Hour from 2 PM to 6 PM.\n\n5:00 PM – 7 PM – Dinner and drinks available anytime after 5 PM. \n7 PM – 8:30 PM – Member Meeting (agenda to be provided in advance) \n\nJoin Zoom Meeting at 7 PM:  \n\n8:30 PM to ??? – Socializing after the meeting \n  \n  \n 
URL:https://optimistyyc.org/event/optimist-club-annual-general-meeting-tuesday-may-12/
LOCATION:Limericks Traditional Public House\, 7304 Macleod Trail\, Calgary\, Alberta\, T2H 0L9\, Canada
CATEGORIES:Member activities,Member meetings,Social Activity
ATTACH;FMTTYPE=image/jpeg:https://optimistyyc.org/wp-content/uploads/2025/04/AGM-Picture-3.jpg
END:VEVENT
END:VCALENDAR