BEGIN:VCALENDAR
VERSION:2.0
PRODID:-//Optimist Club of Calgary - ECPv6.15.20//NONSGML v1.0//EN
CALSCALE:GREGORIAN
METHOD:PUBLISH
X-ORIGINAL-URL:https://optimistyyc.org
X-WR-CALDESC:Events for Optimist Club of Calgary
REFRESH-INTERVAL;VALUE=DURATION:PT1H
X-Robots-Tag:noindex
X-PUBLISHED-TTL:PT1H
BEGIN:VTIMEZONE
TZID:America/Edmonton
BEGIN:DAYLIGHT
TZOFFSETFROM:-0700
TZOFFSETTO:-0600
TZNAME:MDT
DTSTART:20250309T090000
END:DAYLIGHT
BEGIN:STANDARD
TZOFFSETFROM:-0600
TZOFFSETTO:-0700
TZNAME:MST
DTSTART:20251102T080000
END:STANDARD
BEGIN:DAYLIGHT
TZOFFSETFROM:-0700
TZOFFSETTO:-0600
TZNAME:MDT
DTSTART:20260308T090000
END:DAYLIGHT
BEGIN:STANDARD
TZOFFSETFROM:-0600
TZOFFSETTO:-0700
TZNAME:MST
DTSTART:20261101T080000
END:STANDARD
BEGIN:DAYLIGHT
TZOFFSETFROM:-0700
TZOFFSETTO:-0600
TZNAME:MDT
DTSTART:20270314T090000
END:DAYLIGHT
BEGIN:STANDARD
TZOFFSETFROM:-0600
TZOFFSETTO:-0700
TZNAME:MST
DTSTART:20271107T080000
END:STANDARD
END:VTIMEZONE
BEGIN:VEVENT
DTSTART;TZID=America/Edmonton:20261111T173000
DTEND;TZID=America/Edmonton:20261111T203000
DTSTAMP:20260422T233423
CREATED:20260419T011839Z
LAST-MODIFIED:20260419T011839Z
UID:3654-1794418200-1794429000@optimistyyc.org
SUMMARY:Monthly Club Meeting Tuesday November 10th
DESCRIPTION:Don’t miss our monthly meet-ups!  They’re the perfect opportunity for members to connect\, share stories\, and gain insights from top-notch guest speakers who delve into today’s most compelling topics.  Join us in person or hop on Zoom—either way\, it’s an energizing experience you’ll want to be part of! \nDate:  Tuesday\, November 10th\, 2026 \nLocation: Limerick’s Traditional Pub\, 7304 Macleod Trail\, Calgary\, Alberta\, on the main floor (private meeting room). \nParking:  Free parking is available at the back of the restaurant. \n5:00 PM – 7:00 PM – Dinner and drinks are available anytime after 5:00 PM.  To view the Limericks menu – CLICK HERE \nFood and Drink Specials: \n\nTuesday food and drink specials include a AAA Steak Sandwich for $13.99 and a 16-oz. Kampus Amber Lager for $7.00.  Happy/Appy Hour from 2 PM to 6 PM.\n\n7 PM – 8:30 PM – Member Meeting (agenda to be provided in advance) \nJoin the ZOOM Meeting at 7 PM:  Link to be provided before the meeting \n8:30 PM to ??? – Socializing after the meeting \nGuest Speaker:  To Be Confirmed \nDiscussion Topic:  To Be Confirmed \n  \n  \n 
URL:https://optimistyyc.org/event/monthly-club-meeting-tuesday-november-10th/
LOCATION:Limericks Traditional Public House\, 7304 Macleod Trail\, Calgary\, Alberta\, T2H 0L9\, Canada
CATEGORIES:Member activities,Member meetings,Social Activity
ATTACH;FMTTYPE=image/jpeg:https://optimistyyc.org/wp-content/uploads/2023/11/Meeting-reminder-jpg.webp
END:VEVENT
BEGIN:VEVENT
DTSTART;TZID=America/Edmonton:20261202T193000
DTEND;TZID=America/Edmonton:20261202T223000
DTSTAMP:20260422T233423
CREATED:20251206T044747Z
LAST-MODIFIED:20251206T044747Z
UID:3560-1796239800-1796250600@optimistyyc.org
SUMMARY:2026 Optimist Club of Calgary Festive Showcase Wednesday December 2nd
DESCRIPTION:Get ready\, Calgary!  On Wednesday\, December 2nd\, 2026\, the spotlight will shine bright as we celebrate the Optimist Club of Calgary Festive Showcase at the iconic Jubilee Auditorium.\nThis isn’t just an event—it’s a jubilant celebration of talent\, heart\, and community spirit!  Local youth musicians and dancers will hit the stage to perform the dazzling routines they’ve been pouring their passion into all season long—live\, in front of a roaring audience\, under professional lights.  From captivating choreography to breathtaking musical performances\, this unforgettable evening is a tribute to empowering young artists and bringing magic to Calgary’s holiday season. \nHosted by the Heebee-jeebees\, the performing groups will include the 7-Time Global Award Winning Calgary Stampede Showband\, The Young Canadians\, the Stetson Show Band\, the Calgary Round-Up Band\, and several other performing groups.  Let’s make this silver anniversary sparkle! \n \nTICKETS:  More information on how to purchase tickets will be posted in the fall of 2026   \nDRESS CODE:  Casual \nPARKING:  Parking is available at the Jubilee Auditorium \nLast year\, approximately 1\,500 people attended the event and enjoyed some incredible music\, singing\, and dance performances.  This year promises to be even better! \n\n\n\n\n   \n\n\n\n   \nThe above pictures are from last year’s Optimist Festive Showcase Concert
URL:https://optimistyyc.org/event/2026-optimist-club-of-calgary-festive-showcase/
LOCATION:Southern Alberta Jubilee Auditorium\, 1415 14 Ave NW\, Calgary\, Alberta\, T2N 1M4\, Canada
CATEGORIES:Community Activity,Fundraising,Member activities,Optimist event,Volunteer Opportunity
ATTACH;FMTTYPE=image/jpeg:https://optimistyyc.org/wp-content/uploads/2023/04/christmas-concert-300x200-1-2-jpg.webp
END:VEVENT
BEGIN:VEVENT
DTSTART;TZID=America/Edmonton:20261207T173000
DTEND;TZID=America/Edmonton:20261207T213000
DTSTAMP:20260422T233423
CREATED:20260419T013103Z
LAST-MODIFIED:20260419T013103Z
UID:3659-1796664600-1796679000@optimistyyc.org
SUMMARY:2026 Optimist Club of Calgary Member Christmas Party Monday December 7th
DESCRIPTION:Attention all Members and Invited Guests!\nJoin us for a cheerful evening of fellowship\, delicious food\, and festive fun as we reconnect with fellow Optimist Club members and their partners. Last year’s Christmas Party was a wonderful celebration\, and we’re excited to bring that spirit back on Monday\, December 7\, 2026. We hope you’ll be part of the holiday magic! \nLocation:  To be announced in the fall \nSchedule of Events:   Cocktails at 5:30 PM\, Dinner at 6:15 PM\, Socializing at 7:30 PM \nDress Code:  Business Casual \nCost:  To be announced in the fall \nNote:  Please consider bringing an unwrapped Christmas gift for a child or youth.  We will arrange for these to be dropped off at a Toy Mountain location in Calgary. \n  \n  \n   \nThe above are pictures from our Christmas Party at the Manor at Fish Creek Park
URL:https://optimistyyc.org/event/2024-optimist-club-of-calgary-member-christmas-party-monday-december7th/
LOCATION:Alberta
CATEGORIES:Member activities,Social Activity
ATTACH;FMTTYPE=image/jpeg:https://optimistyyc.org/wp-content/uploads/2023/11/Christmas-Party-Notification-jpg.webp
END:VEVENT
END:VCALENDAR