BEGIN:VCALENDAR
VERSION:2.0
PRODID:-//Optimist Club of Calgary - ECPv6.15.20//NONSGML v1.0//EN
CALSCALE:GREGORIAN
METHOD:PUBLISH
X-ORIGINAL-URL:https://optimistyyc.org
X-WR-CALDESC:Events for Optimist Club of Calgary
REFRESH-INTERVAL;VALUE=DURATION:PT1H
X-Robots-Tag:noindex
X-PUBLISHED-TTL:PT1H
BEGIN:VTIMEZONE
TZID:America/Edmonton
BEGIN:DAYLIGHT
TZOFFSETFROM:-0700
TZOFFSETTO:-0600
TZNAME:MDT
DTSTART:20210314T090000
END:DAYLIGHT
BEGIN:STANDARD
TZOFFSETFROM:-0600
TZOFFSETTO:-0700
TZNAME:MST
DTSTART:20211107T080000
END:STANDARD
BEGIN:DAYLIGHT
TZOFFSETFROM:-0700
TZOFFSETTO:-0600
TZNAME:MDT
DTSTART:20220313T090000
END:DAYLIGHT
BEGIN:STANDARD
TZOFFSETFROM:-0600
TZOFFSETTO:-0700
TZNAME:MST
DTSTART:20221106T080000
END:STANDARD
BEGIN:DAYLIGHT
TZOFFSETFROM:-0700
TZOFFSETTO:-0600
TZNAME:MDT
DTSTART:20230312T090000
END:DAYLIGHT
BEGIN:STANDARD
TZOFFSETFROM:-0600
TZOFFSETTO:-0700
TZNAME:MST
DTSTART:20231105T080000
END:STANDARD
BEGIN:DAYLIGHT
TZOFFSETFROM:-0700
TZOFFSETTO:-0600
TZNAME:MDT
DTSTART:20240310T090000
END:DAYLIGHT
BEGIN:STANDARD
TZOFFSETFROM:-0600
TZOFFSETTO:-0700
TZNAME:MST
DTSTART:20241103T080000
END:STANDARD
END:VTIMEZONE
BEGIN:VEVENT
DTSTART;TZID=America/Edmonton:20230107T080000
DTEND;TZID=America/Edmonton:20230224T170000
DTSTAMP:20260422T170252
CREATED:20230107T212441Z
LAST-MODIFIED:20230222T002006Z
UID:716-1673078400-1677258000@optimistyyc.org
SUMMARY:Optimist Oratorical Contest
DESCRIPTION:Accepting Applications from now to February 24th\, 2023 \nThe Optimist Club of Calgary is again sponsoring the Optimist International Oratorical Scholarship Contest for the 2022-23 school year.  The contest is open to students who are under 19 years of age on October 1\, 2022. Speakers will research\, write and present a four-to-five-minute speech on the topic “Discovering the Optimism within Me” at a date and location in Calgary yet to be determined. We encourage students who have public speaking experience through school\, church\, Guides and Scouts\, 4-H\, Air Cadets\, and other organizations and training programs to enter. \nAn Oratorical Contest Application containing all rules and other information can be found by clicking on the following link: \nhttps://www.optimist.org/documents/2023/programs/22-23_Oratorical_Application.pdf \nFor more information on the Oratorical Contest\, check out our website at https://optimistyyc.org/contests/ or the Optimist International Website by CLICKING HERE. \nEntries will be accepted on a first-come basis until February 24\, 2023. The contest will have a maximum of ten contestants.  The actual speaking event will be held in Calgary sometime in mid-March\, with a date yet to be determined. \nEntries for the contest should be submitted by e-mail to Bob Steele (Essay and Oratorical Contest Chair) at ironmanb@telusplanet.net  with the Subject “Oratorical Contest”. The entry must include a completed application form\, signed by the entrant and his/her parent\, a copy of proof of age\, and a brief statement of the school\, grade attended\, and previous speaking experience. \nThe Optimist Club will judge the local students’ speeches based on content and presentation to determine the top winners. Winners will receive AWARDS and the winning speeches will be sent to the Zone level\, and possibly the District level for the opportunity to win college scholarships. Winners of the District level will be eligible to compete in a regional competition in St. Louis\, Missouri\, at Saint Louis University. \nWinners of the regional contests will compete in the World Championship also held at Saint Louis University. Students could possibly win up to $22\,500 in scholarships! \n 
URL:https://optimistyyc.org/event/optimist-oratorical-contest/
LOCATION:Alberta
CATEGORIES:Scholarship Opportunities
ATTACH;FMTTYPE=image/jpeg:https://optimistyyc.org/wp-content/uploads/2023/01/oritorical-contest-jpg.webp
END:VEVENT
BEGIN:VEVENT
DTSTART;TZID=America/Edmonton:20221010T080000
DTEND;TZID=America/Edmonton:20230130T233000
DTSTAMP:20260422T170252
CREATED:20221128T235820Z
LAST-MODIFIED:20230222T040217Z
UID:687-1665388800-1675121400@optimistyyc.org
SUMMARY:Optimist Essay Contest - NOW CLOSED
DESCRIPTION:The Optimist Club of Calgary is again sponsoring the Optimist International Essay Scholarship Contest for the 2022-23 school year.  The contest is open to students who are under 19 years of age on October 1\, 2022. Students must write a 700-to-800-word essay on the topic “Who is an Everyday Hero That Brings Out the Optimism in You?” \nThe Optimist Club of Calgary Essay Contest is now closed. Nine students have entered. Results will be posted on this website after February 15.  \nEntries were accepted on a first come\, first entered basis. All entries were acknowledged on receipt by the Optimist Club of Calgary. \nThe Optimist Club of Calgary will give cash prizes of $100\, $75 and $50 to the three best essays entered into the contest. The best essay will be forwarded to a second contest in which the best essays from all the Optimist clubs in the Alberta\, Saskatchewan\, Montana\, and Northern Wyoming District are entered. The best essay from this group will receive a $2\,500 post-secondary scholarship provided by the Canadian Children’s Optimist Foundation. \nFor more information about the Essay Contest\, visit the Optimist International Website.
URL:https://optimistyyc.org/event/optimist-essay-contest/
LOCATION:Alberta
CATEGORIES:Scholarship Opportunities
ATTACH;FMTTYPE=image/jpeg:https://optimistyyc.org/wp-content/uploads/2023/02/cropped-Oratorical-Award-2-jpeg.webp
END:VEVENT
END:VCALENDAR