BEGIN:VCALENDAR
VERSION:2.0
PRODID:-//Optimist Club of Calgary - ECPv6.15.20//NONSGML v1.0//EN
CALSCALE:GREGORIAN
METHOD:PUBLISH
X-ORIGINAL-URL:https://optimistyyc.org
X-WR-CALDESC:Events for Optimist Club of Calgary
REFRESH-INTERVAL;VALUE=DURATION:PT1H
X-Robots-Tag:noindex
X-PUBLISHED-TTL:PT1H
BEGIN:VTIMEZONE
TZID:America/Edmonton
BEGIN:DAYLIGHT
TZOFFSETFROM:-0700
TZOFFSETTO:-0600
TZNAME:MDT
DTSTART:20240310T090000
END:DAYLIGHT
BEGIN:STANDARD
TZOFFSETFROM:-0600
TZOFFSETTO:-0700
TZNAME:MST
DTSTART:20241103T080000
END:STANDARD
BEGIN:DAYLIGHT
TZOFFSETFROM:-0700
TZOFFSETTO:-0600
TZNAME:MDT
DTSTART:20250309T090000
END:DAYLIGHT
BEGIN:STANDARD
TZOFFSETFROM:-0600
TZOFFSETTO:-0700
TZNAME:MST
DTSTART:20251102T080000
END:STANDARD
BEGIN:DAYLIGHT
TZOFFSETFROM:-0700
TZOFFSETTO:-0600
TZNAME:MDT
DTSTART:20260308T090000
END:DAYLIGHT
BEGIN:STANDARD
TZOFFSETFROM:-0600
TZOFFSETTO:-0700
TZNAME:MST
DTSTART:20261101T080000
END:STANDARD
BEGIN:DAYLIGHT
TZOFFSETFROM:-0700
TZOFFSETTO:-0600
TZNAME:MDT
DTSTART:20270314T090000
END:DAYLIGHT
BEGIN:STANDARD
TZOFFSETFROM:-0600
TZOFFSETTO:-0700
TZNAME:MST
DTSTART:20271107T080000
END:STANDARD
END:VTIMEZONE
BEGIN:VEVENT
DTSTART;VALUE=DATE:20251205
DTEND;VALUE=DATE:20260112
DTSTAMP:20260422T202206
CREATED:20251205T202410Z
LAST-MODIFIED:20260114T173505Z
UID:3521-1764892800-1768175999@optimistyyc.org
SUMMARY:2026 Optimist Club of Calgary Essay Scholarship Contest NOW ACCEPTING APPLICATIONS
DESCRIPTION:Attention all Students –  Here’s your chance to win a Scholarship!\nCONTEST APPLICATIONS ARE NOW BEING ACCEPTED                 \nThe Optimist Club of Calgary is excited to announce the return of its Essay Scholarship Contest for the 2025–26 school year!  This inspiring opportunity is open to students who are under 19 years of age as of October 1\, 2025. \nTo enter\, students are invited to craft a 700–800-word essay on the theme: “How My Acts of Service Help Me Understand What My Community Means to Me.” So sharpen those pencils\, share your story\, and let your creative writing skills shine! \nSubmissions will be accepted until January 10\, 2026. \nTo apply\, download the Oratorical Contest Application described below\, complete it\, and submit it via e-mail to Bob Steele\, Essay Contest Chair\, at ironmanb@telusplanet.net with the Subject “Essay Contest”. The entry must include a completed application form\, signed by the entrant and his/her parent\, a copy of proof of age\, and a brief statement of the school and grade attended. Entries will be acknowledged as received\, and there will be no limit on entries. There will be a Zoom meeting between Mr. Steele and entrants in December to discuss the rules; it is recommended that entrants wait for that meeting before writing their essay. \nCONTEST APPLICATION FORM:   25-26_Essay_Application \nThere are medals and cash prizes of $300\, $200\, and $100 for the top three essays. The best essay will be entered into the Scholarship contest. All Optimist clubs in Alberta\, Saskatchewan\, and Montana may enter this contest. One post-secondary scholarship valued at $2\,500 is awarded in this contest. \nAny questions regarding the contest should be directed to Bob Steele\, Contest Chair\, via email at ironmanb@telusplanet.net. \n  \nMORE INFORMATION ABOUT THE OPTIMIST INTERNATIONAL ESSAY SCHOLARSHIP CONTEST    \nOptimist International sponsors the Essay contest to allow young people to write about their own opinions regarding the world in which they live.  The approach can encompass a young person’s personal experience\, the experience of their country\, or a more historical perspective.  In addition to developing written expression skills\, participants also have the opportunity to win a college scholarship. \nIn the past eleven Essay Contests\, the entrant from our club has earned the $2\,500 scholarship for our District six times. \nFor more information on the Essay Contest\, check out our website at https://optimistyyc.org/contests/ or the Optimist International Website by CLICKING HERE. \n 
URL:https://optimistyyc.org/event/2026-optimist-club-of-calgary-essay-scholarship-contest/
LOCATION:Alberta
CATEGORIES:Optimist event,Scholarship Opportunities,Volunteer Opportunity
ATTACH;FMTTYPE=image/jpeg:https://optimistyyc.org/wp-content/uploads/2023/02/Essay-Contest-Logo-jpeg.webp
END:VEVENT
END:VCALENDAR